BEGIN:VCALENDAR
VERSION:2.0
PRODID:-//Westcoast Family Centres - ECPv6.15.18//NONSGML v1.0//EN
CALSCALE:GREGORIAN
METHOD:PUBLISH
X-WR-CALNAME:Westcoast Family Centres
X-ORIGINAL-URL:https://westcoastfamily.org
X-WR-CALDESC:Events for Westcoast Family Centres
REFRESH-INTERVAL;VALUE=DURATION:PT1H
X-Robots-Tag:noindex
X-PUBLISHED-TTL:PT1H
BEGIN:VTIMEZONE
TZID:America/Vancouver
BEGIN:DAYLIGHT
TZOFFSETFROM:-0800
TZOFFSETTO:-0700
TZNAME:PDT
DTSTART:20250309T100000
END:DAYLIGHT
BEGIN:STANDARD
TZOFFSETFROM:-0700
TZOFFSETTO:-0800
TZNAME:PST
DTSTART:20251102T090000
END:STANDARD
BEGIN:DAYLIGHT
TZOFFSETFROM:-0800
TZOFFSETTO:-0700
TZNAME:PDT
DTSTART:20260308T100000
END:DAYLIGHT
BEGIN:STANDARD
TZOFFSETFROM:-0700
TZOFFSETTO:-0800
TZNAME:PST
DTSTART:20261101T090000
END:STANDARD
BEGIN:DAYLIGHT
TZOFFSETFROM:-0800
TZOFFSETTO:-0700
TZNAME:PDT
DTSTART:20270314T100000
END:DAYLIGHT
BEGIN:STANDARD
TZOFFSETFROM:-0700
TZOFFSETTO:-0800
TZNAME:PST
DTSTART:20271107T090000
END:STANDARD
END:VTIMEZONE
BEGIN:VEVENT
DTSTART;TZID=America/Vancouver:20260302T090000
DTEND;TZID=America/Vancouver:20260302T100000
DTSTAMP:20260422T032529
CREATED:20251201T201807Z
LAST-MODIFIED:20260109T224613Z
UID:10002940-1772442000-1772445600@westcoastfamily.org
SUMMARY:Mother Goose Circle & Story Time
DESCRIPTION:Come join us with your little ones for a fun-filled circle & story time. For parents with children aged 0-6 years old. \nDetails: \n\nDrop-in\, no registration required!\n\nDrop-in on Mondays\, January 12 – March 2\, 2026\, 9:00 AM – 10:00 AM \n\n\nCentral Elementary School (2260 Central Ave PoCo\, meet in library) \n\nNo session Feb 2 and Feb 16 (Family Day)\n\nIf you have any questions about this group\, please email shawna.comey@westcoastfamily.org
URL:https://westcoastfamily.org/event/mother-goose-circle-story-time-2/2026-03-02/
LOCATION:Central Elementary School\, 2260 Central Ave\, Port Coquitlam\, British Columbia\, V3C 1V8\, Canada
CATEGORIES:0-6 Years
ATTACH;FMTTYPE=image/png:https://westcoastfamily.org/wp-content/uploads/2025/12/Social-Media-Images-Winter-2025-1.png
ORGANIZER;CN="Shawna Comey":MAILTO:shawna.comey@westcoastfamily.org
END:VEVENT
BEGIN:VEVENT
DTSTART;TZID=America/Vancouver:20260303T093000
DTEND;TZID=America/Vancouver:20260303T110000
DTSTAMP:20260422T032529
CREATED:20251201T220015Z
LAST-MODIFIED:20251201T220338Z
UID:10003006-1772530200-1772535600@westcoastfamily.org
SUMMARY:Stay & Play Gym Time
DESCRIPTION:Come be a Birchland Buddy and drop-in for a fun\, active open gym experience while learning about Healthy Living. For parents with children aged 0-6. In partnership with SD43. \nDetails: \n\nNo registration required\, drop-in program\nEvery Tuesday January 20 – March 3\, 2026\, except Feb. 10\, 9:30 AM – 11:00 AM\nAt Birchland Elementary School Gym (1331 Fraser Ave\, Port Coquitlam)\nEntrance at gym doors\n\nIf you have any questions about this group\, please email family.nav@westcoastfamily.org
URL:https://westcoastfamily.org/event/stay-play-gym-time-4-2/2026-03-03/
LOCATION:Birchland Elementary School\, 1331 Fraser Ave\, Port Coquitlam\, BC\, V3B 1M4\, Canada
CATEGORIES:0-6 Years
ATTACH;FMTTYPE=image/png:https://westcoastfamily.org/wp-content/uploads/2024/12/Untitled-design-99.png
ORGANIZER;CN="Shawna Comey":MAILTO:shawna.comey@westcoastfamily.org
END:VEVENT
BEGIN:VEVENT
DTSTART;TZID=America/Vancouver:20260303T100000
DTEND;TZID=America/Vancouver:20260303T113000
DTSTAMP:20260422T032529
CREATED:20251202T201446Z
LAST-MODIFIED:20251211T221126Z
UID:10003104-1772532000-1772537400@westcoastfamily.org
SUMMARY:Infant Massage
DESCRIPTION:Join us for a 5-week Infant Massage Course for parents with children 0-12 months old. \nIn addition to learning the strokes\, discover how Infant Massage\, through deep connection and gentle nurturing touch can: \n\nStrengthen your bond with your baby\nImprove sleep and relaxation\nAid digestion and ease colic\nSupport healthy growth and development\n\nPlease dress comfortably and bring along a yoga mat\, towel or blanket. Massage oil will be provided. \nDetails: \n\nRegistration required. \nTuesdays\, February 3 – March 3\, 2026\, 10:00 AM – 11:30 AM\nWFC Tri-Cities Office (2062 Manning Ave\, Port Coquitlam) – back of building\n\nFor any questions\, please contact helen.rex@westcoastfamily.org
URL:https://westcoastfamily.org/event/infant-massage-2/2026-03-03/
LOCATION:WFC Tri-Cities Office\, 2062 Manning Ave\, Port Coquitlam\, BC\, V3B 1L6
CATEGORIES:0-6 Years
ATTACH;FMTTYPE=image/png:https://westcoastfamily.org/wp-content/uploads/2025/08/Infant-Massage-1.png
ORGANIZER;CN="Helen Rex":MAILTO:helen.rex@westcoastfamily.org
END:VEVENT
BEGIN:VEVENT
DTSTART;TZID=America/Vancouver:20260304T093000
DTEND;TZID=America/Vancouver:20260304T113000
DTSTAMP:20260422T032529
CREATED:20251201T203236Z
LAST-MODIFIED:20260130T223023Z
UID:10002961-1772616600-1772623800@westcoastfamily.org
SUMMARY:Power of Play
DESCRIPTION:Come join us for a fun-filled drop-in! A Family Navigator will be there for all your resource needs. For parents with children 0-6. \nDetails: \n\nNo registration required\, drop-in program!\nWednesdays\, January 14 – March 11\, 2026\, 9:30 AM – 11:30 AM\, Except Feb 25\nAt WFC Tri-Cities Office (2062 Manning Ave\, Port Coquitlam) – around back\n\nIf you have any questions about this group\, please email us at family.nav@westcoastfamily.org
URL:https://westcoastfamily.org/event/power-of-play-5/2026-03-04/
LOCATION:WFC Tri-Cities Office\, 2062 Manning Ave\, Port Coquitlam\, BC\, V3B 1L6
CATEGORIES:0-6 Years
ATTACH;FMTTYPE=image/png:https://westcoastfamily.org/wp-content/uploads/2025/12/Social-Media-Images-Winter-2025-2.png
ORGANIZER;CN="Family Nav":MAILTO:family.nav@westcoastfamily.org
END:VEVENT
BEGIN:VEVENT
DTSTART;TZID=America/Vancouver:20260305T133000
DTEND;TZID=America/Vancouver:20260305T143000
DTSTAMP:20260422T032529
CREATED:20251201T224059Z
LAST-MODIFIED:20251201T224059Z
UID:10003050-1772717400-1772721000@westcoastfamily.org
SUMMARY:Tiny Tunes
DESCRIPTION:Share the love of language through songs\, rhymes and simple signs for your little one (aged 0-2). \nDetails: \n\nRegistration required – spots open weekly! Register here\nThursdays\, Jan. 22 – Mar. 12\, 2026\, from 1:30 PM – 2:30 PM\nYMCA CCRR Office\, (1130 Austin Ave\, Coquitlam)\n\nIf you have any questions about this group\, please email family.nav@westcoastfamily.org
URL:https://westcoastfamily.org/event/tiny-tunes-4/2026-03-05/
LOCATION:YMCA CCRR Office\, 1130 Austin Ave\, Coquitlam\, British Columbia\, Canada
CATEGORIES:0-6 Years
ATTACH;FMTTYPE=image/png:https://westcoastfamily.org/wp-content/uploads/2025/12/Social-Media-Images-Winter-2025-4.png
ORGANIZER;CN="Family Nav":MAILTO:family.nav@westcoastfamily.org
END:VEVENT
BEGIN:VEVENT
DTSTART;TZID=America/Vancouver:20260307T120000
DTEND;TZID=America/Vancouver:20260307T130000
DTSTAMP:20260422T032529
CREATED:20251201T221517Z
LAST-MODIFIED:20251201T221517Z
UID:10003020-1772884800-1772888400@westcoastfamily.org
SUMMARY:Satur-PLAY
DESCRIPTION:Bring your picnic blanket to Blue Mountain Park Playground! We will play at the playground\, then have an outdoor Story and Song. For families with children 0-6 years\, older siblings are welcome to join! \nDetails: \n\nDrop-in\, no registration required! \nSaturdays\, January 31 – March 7\, 2026\, 12:00 PM – 1:00 PM\nBlue Mountain Park – 975 King Albert Ave Coquitlam\nMeet near the playground\n\nIf you have any questions about this group\, please email brandie.cristales@westcoastfamily.org
URL:https://westcoastfamily.org/event/satur-play-2/2026-03-07/
LOCATION:Blue Mountain Park\, 975 King Albert Ave\, Coquitlam\, BC\, V3J 1X4\, Canada
CATEGORIES:0-6 Years
ATTACH;FMTTYPE=image/png:https://westcoastfamily.org/wp-content/uploads/2025/08/Workshop-Social-Media-Promotions-Fall-2025-12.png
ORGANIZER;CN="Brandie Cristales":MAILTO:brandie.cristales@westcoastfamily.org
END:VEVENT
BEGIN:VEVENT
DTSTART;TZID=America/Vancouver:20260311T093000
DTEND;TZID=America/Vancouver:20260311T113000
DTSTAMP:20260422T032529
CREATED:20251201T203236Z
LAST-MODIFIED:20260130T223023Z
UID:10002962-1773221400-1773228600@westcoastfamily.org
SUMMARY:Power of Play
DESCRIPTION:Come join us for a fun-filled drop-in! A Family Navigator will be there for all your resource needs. For parents with children 0-6. \nDetails: \n\nNo registration required\, drop-in program!\nWednesdays\, January 14 – March 11\, 2026\, 9:30 AM – 11:30 AM\, Except Feb 25\nAt WFC Tri-Cities Office (2062 Manning Ave\, Port Coquitlam) – around back\n\nIf you have any questions about this group\, please email us at family.nav@westcoastfamily.org
URL:https://westcoastfamily.org/event/power-of-play-5/2026-03-11/
LOCATION:WFC Tri-Cities Office\, 2062 Manning Ave\, Port Coquitlam\, BC\, V3B 1L6
CATEGORIES:0-6 Years
ATTACH;FMTTYPE=image/png:https://westcoastfamily.org/wp-content/uploads/2025/12/Social-Media-Images-Winter-2025-2.png
ORGANIZER;CN="Family Nav":MAILTO:family.nav@westcoastfamily.org
END:VEVENT
BEGIN:VEVENT
DTSTART;TZID=America/Vancouver:20260311T120000
DTEND;TZID=America/Vancouver:20260311T140000
DTSTAMP:20260422T032529
CREATED:20251201T204443Z
LAST-MODIFIED:20260130T223121Z
UID:10003118-1773230400-1773237600@westcoastfamily.org
SUMMARY:Baby & Me
DESCRIPTION:Come play in the Tri-Cities with your little one\, connect with other new parents & learn from weekly guest speakers! For parents with babies 0-2. \nDetails: \n\nDROP-IN\, no registration required.\nWednesdays\, January 14 to March 11\, 2026\, from 12:00 PM – 2:00 PM\, Except Feb 25\nAt the WFC Tri-Cities Office (back of the building) (2062 Manning Ave\, Port Coquitlam\, BC V3B 1L6)\n\nIf you have any questions about this group\, please email us at family.nav@westcoastfamily.org
URL:https://westcoastfamily.org/event/baby-me-6/2026-03-11/
LOCATION:WFC Tri-Cities Office\, 2062 Manning Ave\, Port Coquitlam\, BC\, V3B 1L6
CATEGORIES:0-6 Years
ATTACH;FMTTYPE=image/png:https://westcoastfamily.org/wp-content/uploads/2025/12/Social-Media-Images-Winter-2025-3.png
ORGANIZER;CN="Family Nav":MAILTO:family.nav@westcoastfamily.org
END:VEVENT
BEGIN:VEVENT
DTSTART;TZID=America/Vancouver:20260312T133000
DTEND;TZID=America/Vancouver:20260312T143000
DTSTAMP:20260422T032529
CREATED:20251201T224059Z
LAST-MODIFIED:20251201T224059Z
UID:10003051-1773322200-1773325800@westcoastfamily.org
SUMMARY:Tiny Tunes
DESCRIPTION:Share the love of language through songs\, rhymes and simple signs for your little one (aged 0-2). \nDetails: \n\nRegistration required – spots open weekly! Register here\nThursdays\, Jan. 22 – Mar. 12\, 2026\, from 1:30 PM – 2:30 PM\nYMCA CCRR Office\, (1130 Austin Ave\, Coquitlam)\n\nIf you have any questions about this group\, please email family.nav@westcoastfamily.org
URL:https://westcoastfamily.org/event/tiny-tunes-4/2026-03-12/
LOCATION:YMCA CCRR Office\, 1130 Austin Ave\, Coquitlam\, British Columbia\, Canada
CATEGORIES:0-6 Years
ATTACH;FMTTYPE=image/png:https://westcoastfamily.org/wp-content/uploads/2025/12/Social-Media-Images-Winter-2025-4.png
ORGANIZER;CN="Family Nav":MAILTO:family.nav@westcoastfamily.org
END:VEVENT
BEGIN:VEVENT
DTSTART;TZID=America/Vancouver:20260313T100000
DTEND;TZID=America/Vancouver:20260313T120000
DTSTAMP:20260422T032529
CREATED:20251201T205044Z
LAST-MODIFIED:20251201T205044Z
UID:10002985-1773396000-1773403200@westcoastfamily.org
SUMMARY:Crafting Connections with Elder Maria Reed
DESCRIPTION:Join us for a free care-giver crafting make & take session led by Elder Maria Reed! Children aged 0-6 years old. Limited childminding provided while you craft. \nDetails: \n\nDROP-IN\, no registration required. \nFridays\, Jan. 16\, Feb. 13\, Mar. 13\, 2026\, 10:00 AM – 12:00 PM\nAt the WFC Tri-Cities Office – around back (2062 Manning Ave\, Port Coquitlam\, BC V3B 1L6)\n\nIf you have any questions about this group\, please email shawna.comey@westcoastfamily.org.
URL:https://westcoastfamily.org/event/crafting-connections-with-elder-maria-reed-4/2026-03-13/
LOCATION:WFC Tri-Cities Office\, 2062 Manning Ave\, Port Coquitlam\, BC\, V3B 1L6
CATEGORIES:0-6 Years
ATTACH;FMTTYPE=image/png:https://westcoastfamily.org/wp-content/uploads/2025/07/Workshop-Social-Media-Promotions-Fall-2025-6.png
ORGANIZER;CN="Shawna Comey":MAILTO:shawna.comey@westcoastfamily.org
END:VEVENT
BEGIN:VEVENT
DTSTART;TZID=America/Vancouver:20260314T133000
DTEND;TZID=America/Vancouver:20260314T143000
DTSTAMP:20260422T032529
CREATED:20251203T233706Z
LAST-MODIFIED:20251211T182602Z
UID:10003253-1773495000-1773498600@westcoastfamily.org
SUMMARY:Parachute Play
DESCRIPTION:Come on out for some Parachute Family Fun\, Story & Songs! For families with children 0-6 years\, older siblings are welcome to join! Max. 12 participants. \nDetails: \n\nRegistration required! \nSaturdays\, January 3 – 17\, March 14 – 28\, 2026\, 1:30 PM – 2:30 PM\nCCRR Office (1130 Austin Avenue\, Coquitlam)\n\nIf you have any questions about this group\, please email brandie.cristales@westcoastfamily.org
URL:https://westcoastfamily.org/event/parachute-play/2026-03-14/
LOCATION:YMCA CCRR Office\, 1130 Austin Ave\, Coquitlam\, British Columbia\, Canada
CATEGORIES:0-6 Years
ATTACH;FMTTYPE=image/png:https://westcoastfamily.org/wp-content/uploads/2025/12/Social-Media-Images-Winter-2025-19.png
ORGANIZER;CN="Brandie Cristales":MAILTO:brandie.cristales@westcoastfamily.org
END:VEVENT
BEGIN:VEVENT
DTSTART;TZID=America/Vancouver:20260321T133000
DTEND;TZID=America/Vancouver:20260321T143000
DTSTAMP:20260422T032529
CREATED:20251203T233706Z
LAST-MODIFIED:20251211T182602Z
UID:10003254-1774099800-1774103400@westcoastfamily.org
SUMMARY:Parachute Play
DESCRIPTION:Come on out for some Parachute Family Fun\, Story & Songs! For families with children 0-6 years\, older siblings are welcome to join! Max. 12 participants. \nDetails: \n\nRegistration required! \nSaturdays\, January 3 – 17\, March 14 – 28\, 2026\, 1:30 PM – 2:30 PM\nCCRR Office (1130 Austin Avenue\, Coquitlam)\n\nIf you have any questions about this group\, please email brandie.cristales@westcoastfamily.org
URL:https://westcoastfamily.org/event/parachute-play/2026-03-21/
LOCATION:YMCA CCRR Office\, 1130 Austin Ave\, Coquitlam\, British Columbia\, Canada
CATEGORIES:0-6 Years
ATTACH;FMTTYPE=image/png:https://westcoastfamily.org/wp-content/uploads/2025/12/Social-Media-Images-Winter-2025-19.png
ORGANIZER;CN="Brandie Cristales":MAILTO:brandie.cristales@westcoastfamily.org
END:VEVENT
BEGIN:VEVENT
DTSTART;TZID=America/Vancouver:20260323T153000
DTEND;TZID=America/Vancouver:20260323T163000
DTSTAMP:20260422T032529
CREATED:20251201T222034Z
LAST-MODIFIED:20251201T222620Z
UID:10003029-1774279800-1774283400@westcoastfamily.org
SUMMARY:Little Explorers - Spring Break
DESCRIPTION:We will gather for a story then head outdoors to explore. Activities include scavenger hunts and more! Rain or Shine. For families with children aged 0-6 years old. Older siblings welcome to join. \nDetails: \n\nDROP-IN\, no registration required. \nMonday – Friday during Spring Break\, March 23 – 27\, 2026\, 3:30 PM – 4:30 PM\nCoquitlam Public Library\, – Poirier Branch\, 575 Poirier St.\n\nIf you have any questions about this group\, please email brandie.cristales@westcoastfamily.org
URL:https://westcoastfamily.org/event/little-explorers-spring-break/2026-03-23/
LOCATION:575 Poirier St.\, 575 Poirier St.\, Coquitlam\, British Columbia\, V3J 6A9
CATEGORIES:0-6 Years
ATTACH;FMTTYPE=image/png:https://westcoastfamily.org/wp-content/uploads/2025/08/Little-Explorers-2.png
ORGANIZER;CN="Brandie Cristales":MAILTO:brandie.cristales@westcoastfamily.org
END:VEVENT
BEGIN:VEVENT
DTSTART;TZID=America/Vancouver:20260324T153000
DTEND;TZID=America/Vancouver:20260324T163000
DTSTAMP:20260422T032529
CREATED:20251201T222034Z
LAST-MODIFIED:20251201T222620Z
UID:10003030-1774366200-1774369800@westcoastfamily.org
SUMMARY:Little Explorers - Spring Break
DESCRIPTION:We will gather for a story then head outdoors to explore. Activities include scavenger hunts and more! Rain or Shine. For families with children aged 0-6 years old. Older siblings welcome to join. \nDetails: \n\nDROP-IN\, no registration required. \nMonday – Friday during Spring Break\, March 23 – 27\, 2026\, 3:30 PM – 4:30 PM\nCoquitlam Public Library\, – Poirier Branch\, 575 Poirier St.\n\nIf you have any questions about this group\, please email brandie.cristales@westcoastfamily.org
URL:https://westcoastfamily.org/event/little-explorers-spring-break/2026-03-24/
LOCATION:575 Poirier St.\, 575 Poirier St.\, Coquitlam\, British Columbia\, V3J 6A9
CATEGORIES:0-6 Years
ATTACH;FMTTYPE=image/png:https://westcoastfamily.org/wp-content/uploads/2025/08/Little-Explorers-2.png
ORGANIZER;CN="Brandie Cristales":MAILTO:brandie.cristales@westcoastfamily.org
END:VEVENT
BEGIN:VEVENT
DTSTART;TZID=America/Vancouver:20260325T153000
DTEND;TZID=America/Vancouver:20260325T163000
DTSTAMP:20260422T032529
CREATED:20251201T222034Z
LAST-MODIFIED:20251201T222620Z
UID:10003031-1774452600-1774456200@westcoastfamily.org
SUMMARY:Little Explorers - Spring Break
DESCRIPTION:We will gather for a story then head outdoors to explore. Activities include scavenger hunts and more! Rain or Shine. For families with children aged 0-6 years old. Older siblings welcome to join. \nDetails: \n\nDROP-IN\, no registration required. \nMonday – Friday during Spring Break\, March 23 – 27\, 2026\, 3:30 PM – 4:30 PM\nCoquitlam Public Library\, – Poirier Branch\, 575 Poirier St.\n\nIf you have any questions about this group\, please email brandie.cristales@westcoastfamily.org
URL:https://westcoastfamily.org/event/little-explorers-spring-break/2026-03-25/
LOCATION:575 Poirier St.\, 575 Poirier St.\, Coquitlam\, British Columbia\, V3J 6A9
CATEGORIES:0-6 Years
ATTACH;FMTTYPE=image/png:https://westcoastfamily.org/wp-content/uploads/2025/08/Little-Explorers-2.png
ORGANIZER;CN="Brandie Cristales":MAILTO:brandie.cristales@westcoastfamily.org
END:VEVENT
BEGIN:VEVENT
DTSTART;TZID=America/Vancouver:20260326T153000
DTEND;TZID=America/Vancouver:20260326T163000
DTSTAMP:20260422T032529
CREATED:20251201T222034Z
LAST-MODIFIED:20251201T222620Z
UID:10003032-1774539000-1774542600@westcoastfamily.org
SUMMARY:Little Explorers - Spring Break
DESCRIPTION:We will gather for a story then head outdoors to explore. Activities include scavenger hunts and more! Rain or Shine. For families with children aged 0-6 years old. Older siblings welcome to join. \nDetails: \n\nDROP-IN\, no registration required. \nMonday – Friday during Spring Break\, March 23 – 27\, 2026\, 3:30 PM – 4:30 PM\nCoquitlam Public Library\, – Poirier Branch\, 575 Poirier St.\n\nIf you have any questions about this group\, please email brandie.cristales@westcoastfamily.org
URL:https://westcoastfamily.org/event/little-explorers-spring-break/2026-03-26/
LOCATION:575 Poirier St.\, 575 Poirier St.\, Coquitlam\, British Columbia\, V3J 6A9
CATEGORIES:0-6 Years
ATTACH;FMTTYPE=image/png:https://westcoastfamily.org/wp-content/uploads/2025/08/Little-Explorers-2.png
ORGANIZER;CN="Brandie Cristales":MAILTO:brandie.cristales@westcoastfamily.org
END:VEVENT
BEGIN:VEVENT
DTSTART;TZID=America/Vancouver:20260327T153000
DTEND;TZID=America/Vancouver:20260327T163000
DTSTAMP:20260422T032529
CREATED:20251201T222034Z
LAST-MODIFIED:20251201T222620Z
UID:10003033-1774625400-1774629000@westcoastfamily.org
SUMMARY:Little Explorers - Spring Break
DESCRIPTION:We will gather for a story then head outdoors to explore. Activities include scavenger hunts and more! Rain or Shine. For families with children aged 0-6 years old. Older siblings welcome to join. \nDetails: \n\nDROP-IN\, no registration required. \nMonday – Friday during Spring Break\, March 23 – 27\, 2026\, 3:30 PM – 4:30 PM\nCoquitlam Public Library\, – Poirier Branch\, 575 Poirier St.\n\nIf you have any questions about this group\, please email brandie.cristales@westcoastfamily.org
URL:https://westcoastfamily.org/event/little-explorers-spring-break/2026-03-27/
LOCATION:575 Poirier St.\, 575 Poirier St.\, Coquitlam\, British Columbia\, V3J 6A9
CATEGORIES:0-6 Years
ATTACH;FMTTYPE=image/png:https://westcoastfamily.org/wp-content/uploads/2025/08/Little-Explorers-2.png
ORGANIZER;CN="Brandie Cristales":MAILTO:brandie.cristales@westcoastfamily.org
END:VEVENT
BEGIN:VEVENT
DTSTART;TZID=America/Vancouver:20260328T133000
DTEND;TZID=America/Vancouver:20260328T143000
DTSTAMP:20260422T032529
CREATED:20251203T233706Z
LAST-MODIFIED:20251211T182602Z
UID:10003255-1774704600-1774708200@westcoastfamily.org
SUMMARY:Parachute Play
DESCRIPTION:Come on out for some Parachute Family Fun\, Story & Songs! For families with children 0-6 years\, older siblings are welcome to join! Max. 12 participants. \nDetails: \n\nRegistration required! \nSaturdays\, January 3 – 17\, March 14 – 28\, 2026\, 1:30 PM – 2:30 PM\nCCRR Office (1130 Austin Avenue\, Coquitlam)\n\nIf you have any questions about this group\, please email brandie.cristales@westcoastfamily.org
URL:https://westcoastfamily.org/event/parachute-play/2026-03-28/
LOCATION:YMCA CCRR Office\, 1130 Austin Ave\, Coquitlam\, British Columbia\, Canada
CATEGORIES:0-6 Years
ATTACH;FMTTYPE=image/png:https://westcoastfamily.org/wp-content/uploads/2025/12/Social-Media-Images-Winter-2025-19.png
ORGANIZER;CN="Brandie Cristales":MAILTO:brandie.cristales@westcoastfamily.org
END:VEVENT
END:VCALENDAR