BEGIN:VCALENDAR
VERSION:2.0
PRODID:-//Westcoast Family Centres - ECPv6.15.18//NONSGML v1.0//EN
CALSCALE:GREGORIAN
METHOD:PUBLISH
X-ORIGINAL-URL:https://westcoastfamily.org
X-WR-CALDESC:Events for Westcoast Family Centres
REFRESH-INTERVAL;VALUE=DURATION:PT1H
X-Robots-Tag:noindex
X-PUBLISHED-TTL:PT1H
BEGIN:VTIMEZONE
TZID:America/Vancouver
BEGIN:DAYLIGHT
TZOFFSETFROM:-0800
TZOFFSETTO:-0700
TZNAME:PDT
DTSTART:20250309T100000
END:DAYLIGHT
BEGIN:STANDARD
TZOFFSETFROM:-0700
TZOFFSETTO:-0800
TZNAME:PST
DTSTART:20251102T090000
END:STANDARD
BEGIN:DAYLIGHT
TZOFFSETFROM:-0800
TZOFFSETTO:-0700
TZNAME:PDT
DTSTART:20260308T100000
END:DAYLIGHT
BEGIN:STANDARD
TZOFFSETFROM:-0700
TZOFFSETTO:-0800
TZNAME:PST
DTSTART:20261101T090000
END:STANDARD
BEGIN:DAYLIGHT
TZOFFSETFROM:-0800
TZOFFSETTO:-0700
TZNAME:PDT
DTSTART:20270314T100000
END:DAYLIGHT
BEGIN:STANDARD
TZOFFSETFROM:-0700
TZOFFSETTO:-0800
TZNAME:PST
DTSTART:20271107T090000
END:STANDARD
END:VTIMEZONE
BEGIN:VEVENT
DTSTART;TZID=America/Vancouver:20260528T100000
DTEND;TZID=America/Vancouver:20260528T110000
DTSTAMP:20260422T131727
CREATED:20260226T231842Z
LAST-MODIFIED:20260302T202121Z
UID:10003407-1779962400-1779966000@westcoastfamily.org
SUMMARY:Groovy Babies
DESCRIPTION:Come with your baby in a front carrier as we enjoy an hour of music and movement\, laughter and fun! For parents with babies 0-12 months old. \nDetails: \n\nDrop-in\, no registration required!\nThursdays\, Apr. 23 – June 11\, 2026\, no session May 7\, from 10:00 AM – 11:00 AM\nWFC Tri-Cities Office\n\nIf you have any questions about this group\, please email family.nav@westcoastfamily.org
URL:https://westcoastfamily.org/event/groovy-babies/2026-05-28/
LOCATION:WFC Tri-Cities Office\, 2062 Manning Ave\, Port Coquitlam\, BC\, V3B 1L6
CATEGORIES:0-6 Years
ATTACH;FMTTYPE=image/png:https://westcoastfamily.org/wp-content/uploads/2026/02/Website-Images-Spring-2026-5.png
ORGANIZER;CN="Family Nav":MAILTO:family.nav@westcoastfamily.org
END:VEVENT
BEGIN:VEVENT
DTSTART;TZID=America/Vancouver:20260603T170000
DTEND;TZID=America/Vancouver:20260603T183000
DTSTAMP:20260422T131727
CREATED:20260227T200047Z
LAST-MODIFIED:20260302T202341Z
UID:10003446-1780506000-1780511400@westcoastfamily.org
SUMMARY:Evening Family Resource Program
DESCRIPTION:Come connect with other families and enjoy playtime\, stories and free resources. Open to parents and caregivers with children 0-6 years old. Light dinner served. \nDetails: \n\nRegistration is required for each session. Limited capacity available. Spots open weekly on Thursdays!\nEvery Wednesday\, April 8 – June 17\, 2026\,  from 5:00 PM – 6:30 PM\nExcluding April 29 and May 6\nOpen to all parents/caregivers with children 0-6 years old\nIn-person group indoors at the WFC Tri-Cities office (2062 Manning Ave\, Port Coquitlam).\nLight dinner included\n\nIf you have any questions about this group\, please email Amy Carreiro at amy.carreiro@westcoastfamily.org
URL:https://westcoastfamily.org/event/evening-family-resource-program-13/2026-06-03/
LOCATION:WFC Tri-Cities Office\, 2062 Manning Ave\, Port Coquitlam\, BC\, V3B 1L6
CATEGORIES:0-6 Years
ATTACH;FMTTYPE=image/png:https://westcoastfamily.org/wp-content/uploads/2026/02/Website-Images-Spring-2026-7.png
ORGANIZER;CN="Amy Carreiro":MAILTO:amy.carreiro@westcoastfamily.org
END:VEVENT
BEGIN:VEVENT
DTSTART;TZID=America/Vancouver:20260604T100000
DTEND;TZID=America/Vancouver:20260604T110000
DTSTAMP:20260422T131727
CREATED:20260226T231842Z
LAST-MODIFIED:20260302T202121Z
UID:10003408-1780567200-1780570800@westcoastfamily.org
SUMMARY:Groovy Babies
DESCRIPTION:Come with your baby in a front carrier as we enjoy an hour of music and movement\, laughter and fun! For parents with babies 0-12 months old. \nDetails: \n\nDrop-in\, no registration required!\nThursdays\, Apr. 23 – June 11\, 2026\, no session May 7\, from 10:00 AM – 11:00 AM\nWFC Tri-Cities Office\n\nIf you have any questions about this group\, please email family.nav@westcoastfamily.org
URL:https://westcoastfamily.org/event/groovy-babies/2026-06-04/
LOCATION:WFC Tri-Cities Office\, 2062 Manning Ave\, Port Coquitlam\, BC\, V3B 1L6
CATEGORIES:0-6 Years
ATTACH;FMTTYPE=image/png:https://westcoastfamily.org/wp-content/uploads/2026/02/Website-Images-Spring-2026-5.png
ORGANIZER;CN="Family Nav":MAILTO:family.nav@westcoastfamily.org
END:VEVENT
BEGIN:VEVENT
DTSTART;TZID=America/Vancouver:20260610T093000
DTEND;TZID=America/Vancouver:20260610T113000
DTSTAMP:20260422T131727
CREATED:20260226T225205Z
LAST-MODIFIED:20260226T225205Z
UID:10003363-1781083800-1781091000@westcoastfamily.org
SUMMARY:Power of Play
DESCRIPTION:Come join us for a fun-filled drop-in! A Family Navigator will be there for all your resource needs. For parents with children 0-6. \nDetails: \n\nNo registration required\, drop-in program!\nWednesdays\, April 8 – June 17\, 2026\, 9:30 AM – 11:30 AM\nNo session on May 27 & June 3\nAt WFC Tri-Cities Office (2062 Manning Ave\, Port Coquitlam) – around back\n\nIf you have any questions about this group or other DROP-IN SPRING HAPPENINGS programs\, please email us at family.nav@westcoastfamily.org
URL:https://westcoastfamily.org/event/power-of-play-6/2026-06-10/
LOCATION:WFC Tri-Cities Office\, 2062 Manning Ave\, Port Coquitlam\, BC\, V3B 1L6
CATEGORIES:0-6 Years
ATTACH;FMTTYPE=image/png:https://westcoastfamily.org/wp-content/uploads/2026/02/Website-Images-Spring-2026-1.png
ORGANIZER;CN="Family Nav":MAILTO:family.nav@westcoastfamily.org
END:VEVENT
BEGIN:VEVENT
DTSTART;TZID=America/Vancouver:20260610T170000
DTEND;TZID=America/Vancouver:20260610T183000
DTSTAMP:20260422T131727
CREATED:20260227T200047Z
LAST-MODIFIED:20260302T202341Z
UID:10003447-1781110800-1781116200@westcoastfamily.org
SUMMARY:Evening Family Resource Program
DESCRIPTION:Come connect with other families and enjoy playtime\, stories and free resources. Open to parents and caregivers with children 0-6 years old. Light dinner served. \nDetails: \n\nRegistration is required for each session. Limited capacity available. Spots open weekly on Thursdays!\nEvery Wednesday\, April 8 – June 17\, 2026\,  from 5:00 PM – 6:30 PM\nExcluding April 29 and May 6\nOpen to all parents/caregivers with children 0-6 years old\nIn-person group indoors at the WFC Tri-Cities office (2062 Manning Ave\, Port Coquitlam).\nLight dinner included\n\nIf you have any questions about this group\, please email Amy Carreiro at amy.carreiro@westcoastfamily.org
URL:https://westcoastfamily.org/event/evening-family-resource-program-13/2026-06-10/
LOCATION:WFC Tri-Cities Office\, 2062 Manning Ave\, Port Coquitlam\, BC\, V3B 1L6
CATEGORIES:0-6 Years
ATTACH;FMTTYPE=image/png:https://westcoastfamily.org/wp-content/uploads/2026/02/Website-Images-Spring-2026-7.png
ORGANIZER;CN="Amy Carreiro":MAILTO:amy.carreiro@westcoastfamily.org
END:VEVENT
BEGIN:VEVENT
DTSTART;TZID=America/Vancouver:20260611T100000
DTEND;TZID=America/Vancouver:20260611T110000
DTSTAMP:20260422T131727
CREATED:20260226T231842Z
LAST-MODIFIED:20260302T202121Z
UID:10003409-1781172000-1781175600@westcoastfamily.org
SUMMARY:Groovy Babies
DESCRIPTION:Come with your baby in a front carrier as we enjoy an hour of music and movement\, laughter and fun! For parents with babies 0-12 months old. \nDetails: \n\nDrop-in\, no registration required!\nThursdays\, Apr. 23 – June 11\, 2026\, no session May 7\, from 10:00 AM – 11:00 AM\nWFC Tri-Cities Office\n\nIf you have any questions about this group\, please email family.nav@westcoastfamily.org
URL:https://westcoastfamily.org/event/groovy-babies/2026-06-11/
LOCATION:WFC Tri-Cities Office\, 2062 Manning Ave\, Port Coquitlam\, BC\, V3B 1L6
CATEGORIES:0-6 Years
ATTACH;FMTTYPE=image/png:https://westcoastfamily.org/wp-content/uploads/2026/02/Website-Images-Spring-2026-5.png
ORGANIZER;CN="Family Nav":MAILTO:family.nav@westcoastfamily.org
END:VEVENT
BEGIN:VEVENT
DTSTART;TZID=America/Vancouver:20260612T100000
DTEND;TZID=America/Vancouver:20260612T120000
DTSTAMP:20260422T131727
CREATED:20260226T230738Z
LAST-MODIFIED:20260226T230738Z
UID:10003383-1781258400-1781265600@westcoastfamily.org
SUMMARY:Crafting Connections with Elder Maria Reed
DESCRIPTION:Come join us for monthly Family Crafting events led by Elder Maria Reed with Indigenous Teachings. For parents with children 0-6 years old. \nDetails: \n\nDROP-IN\, no registration required. \nFridays\, Apr. 17\, May 8\, & Jun. 12\, 2026\, 10:00 AM – 12:00 PM\nAt the WFC Tri-Cities Office – around back (2062 Manning Ave\, Port Coquitlam\, BC V3B 1L6)\n\nIf you have any questions about this group\, please email shawna.comey@westcoastfamily.org.
URL:https://westcoastfamily.org/event/crafting-connections-with-elder-maria-reed-5/2026-06-12/
LOCATION:WFC Tri-Cities Office\, 2062 Manning Ave\, Port Coquitlam\, BC\, V3B 1L6
CATEGORIES:0-6 Years
ATTACH;FMTTYPE=image/png:https://westcoastfamily.org/wp-content/uploads/2026/02/Website-Images-Spring-2026-3.png
ORGANIZER;CN="Shawna Comey":MAILTO:shawna.comey@westcoastfamily.org
END:VEVENT
BEGIN:VEVENT
DTSTART;TZID=America/Vancouver:20260617T093000
DTEND;TZID=America/Vancouver:20260617T113000
DTSTAMP:20260422T131727
CREATED:20260226T225205Z
LAST-MODIFIED:20260226T225205Z
UID:10003364-1781688600-1781695800@westcoastfamily.org
SUMMARY:Power of Play
DESCRIPTION:Come join us for a fun-filled drop-in! A Family Navigator will be there for all your resource needs. For parents with children 0-6. \nDetails: \n\nNo registration required\, drop-in program!\nWednesdays\, April 8 – June 17\, 2026\, 9:30 AM – 11:30 AM\nNo session on May 27 & June 3\nAt WFC Tri-Cities Office (2062 Manning Ave\, Port Coquitlam) – around back\n\nIf you have any questions about this group or other DROP-IN SPRING HAPPENINGS programs\, please email us at family.nav@westcoastfamily.org
URL:https://westcoastfamily.org/event/power-of-play-6/2026-06-17/
LOCATION:WFC Tri-Cities Office\, 2062 Manning Ave\, Port Coquitlam\, BC\, V3B 1L6
CATEGORIES:0-6 Years
ATTACH;FMTTYPE=image/png:https://westcoastfamily.org/wp-content/uploads/2026/02/Website-Images-Spring-2026-1.png
ORGANIZER;CN="Family Nav":MAILTO:family.nav@westcoastfamily.org
END:VEVENT
BEGIN:VEVENT
DTSTART;TZID=America/Vancouver:20260617T120000
DTEND;TZID=America/Vancouver:20260617T140000
DTSTAMP:20260422T131727
CREATED:20260226T224308Z
LAST-MODIFIED:20260226T224308Z
UID:10003342-1781697600-1781704800@westcoastfamily.org
SUMMARY:Baby & Me
DESCRIPTION:Come play in the Tri-Cities with your little one\, connect with other new parents & learn from weekly guest speakers! For parents with babies 0-2. \nDetails: \n\nDROP-IN\, no registration required.\nWednesdays\, April 8 to June 17\, 2026\, from 12:00 PM – 2:00 PM\nNo session May 27 & June 3rd\nAt the WFC Tri-Cities Office (back of the building) (2062 Manning Ave\, Port Coquitlam\, BC V3B 1L6)\n\nIf you have any questions about this group or other DROP-IN SPRING HAPPENINGS programs\, please email us at family.nav@westcoastfamily.org
URL:https://westcoastfamily.org/event/baby-me-7/2026-06-17/
LOCATION:WFC Tri-Cities Office\, 2062 Manning Ave\, Port Coquitlam\, BC\, V3B 1L6
CATEGORIES:0-6 Years
ATTACH;FMTTYPE=image/png:https://westcoastfamily.org/wp-content/uploads/2026/02/Website-Images-Spring-2026.png
ORGANIZER;CN="Family Nav":MAILTO:family.nav@westcoastfamily.org
END:VEVENT
BEGIN:VEVENT
DTSTART;TZID=America/Vancouver:20260617T170000
DTEND;TZID=America/Vancouver:20260617T183000
DTSTAMP:20260422T131727
CREATED:20260227T200047Z
LAST-MODIFIED:20260302T202341Z
UID:10003448-1781715600-1781721000@westcoastfamily.org
SUMMARY:Evening Family Resource Program
DESCRIPTION:Come connect with other families and enjoy playtime\, stories and free resources. Open to parents and caregivers with children 0-6 years old. Light dinner served. \nDetails: \n\nRegistration is required for each session. Limited capacity available. Spots open weekly on Thursdays!\nEvery Wednesday\, April 8 – June 17\, 2026\,  from 5:00 PM – 6:30 PM\nExcluding April 29 and May 6\nOpen to all parents/caregivers with children 0-6 years old\nIn-person group indoors at the WFC Tri-Cities office (2062 Manning Ave\, Port Coquitlam).\nLight dinner included\n\nIf you have any questions about this group\, please email Amy Carreiro at amy.carreiro@westcoastfamily.org
URL:https://westcoastfamily.org/event/evening-family-resource-program-13/2026-06-17/
LOCATION:WFC Tri-Cities Office\, 2062 Manning Ave\, Port Coquitlam\, BC\, V3B 1L6
CATEGORIES:0-6 Years
ATTACH;FMTTYPE=image/png:https://westcoastfamily.org/wp-content/uploads/2026/02/Website-Images-Spring-2026-7.png
ORGANIZER;CN="Amy Carreiro":MAILTO:amy.carreiro@westcoastfamily.org
END:VEVENT
BEGIN:VEVENT
DTSTART;TZID=America/Vancouver:20260622T173000
DTEND;TZID=America/Vancouver:20260622T190000
DTSTAMP:20260422T131727
CREATED:20260227T223154Z
LAST-MODIFIED:20260227T224409Z
UID:10003461-1782149400-1782154800@westcoastfamily.org
SUMMARY:Pops & Tots
DESCRIPTION:Come join other dads and their children ages 0-6.  \nFacilitated by a Dad for Dads! Resources and information available to support your parenting journey. Enjoy a light snack and playing with your little ones. \nDetails: \n\nRegistration required!\nMondays\, Apr. 20\, May 25\, June 22\, 2026\, from 5:30 PM – 7:00 PM\nWFC Tri-Cities Office\n\nIf you have any questions about this group\, please email facilitator amy.carreiro@westcoastfamily.org
URL:https://westcoastfamily.org/event/pops-tots/2026-06-22/
LOCATION:WFC Tri-Cities Office\, 2062 Manning Ave\, Port Coquitlam\, BC\, V3B 1L6
CATEGORIES:0-6 Years
ATTACH;FMTTYPE=image/png:https://westcoastfamily.org/wp-content/uploads/2026/02/Website-Images-Spring-2026-3-1.png
END:VEVENT
END:VCALENDAR