BEGIN:VCALENDAR
VERSION:2.0
PRODID:-//Westcoast Family Centres - ECPv6.15.18//NONSGML v1.0//EN
CALSCALE:GREGORIAN
METHOD:PUBLISH
X-WR-CALNAME:Westcoast Family Centres
X-ORIGINAL-URL:https://westcoastfamily.org
X-WR-CALDESC:Events for Westcoast Family Centres
REFRESH-INTERVAL;VALUE=DURATION:PT1H
X-Robots-Tag:noindex
X-PUBLISHED-TTL:PT1H
BEGIN:VTIMEZONE
TZID:America/Vancouver
BEGIN:DAYLIGHT
TZOFFSETFROM:-0800
TZOFFSETTO:-0700
TZNAME:PDT
DTSTART:20230312T100000
END:DAYLIGHT
BEGIN:STANDARD
TZOFFSETFROM:-0700
TZOFFSETTO:-0800
TZNAME:PST
DTSTART:20231105T090000
END:STANDARD
BEGIN:DAYLIGHT
TZOFFSETFROM:-0800
TZOFFSETTO:-0700
TZNAME:PDT
DTSTART:20240310T100000
END:DAYLIGHT
BEGIN:STANDARD
TZOFFSETFROM:-0700
TZOFFSETTO:-0800
TZNAME:PST
DTSTART:20241103T090000
END:STANDARD
BEGIN:DAYLIGHT
TZOFFSETFROM:-0800
TZOFFSETTO:-0700
TZNAME:PDT
DTSTART:20250309T100000
END:DAYLIGHT
BEGIN:STANDARD
TZOFFSETFROM:-0700
TZOFFSETTO:-0800
TZNAME:PST
DTSTART:20251102T090000
END:STANDARD
END:VTIMEZONE
BEGIN:VEVENT
DTSTART;TZID=America/Vancouver:20240118T094500
DTEND;TZID=America/Vancouver:20240118T121500
DTSTAMP:20260425T043650
CREATED:20240113T191132Z
LAST-MODIFIED:20240129T231701Z
UID:10000420-1705571100-1705580100@westcoastfamily.org
SUMMARY:Empowering Moms Group in Farsi
DESCRIPTION:Join us for a support group in Farsi that fosters a nurturing and uplifting environment for participating mothers. We will explore a variety of topics that will empower moms through the challenges of motherhood. Topics Include: \n\nMindful motherhood\nCreating personal wellness routines\nNurturing emotional well-being\nBody positivity and acceptance\nSocial connections and self care\nBalancing work and family life\nSelf-care and wellness\nParenting milestones and challenges\nNavigating mom guilt\nBuilding a supportive community and more!\n\nSchedule: \n\nEvery Thursday from January 18 – June 20\, 2024\n9:45 AM – 12:15 PM\nConnecting online via Zoom\n\nAfter the first session has passed (January 18\, 2024)\, please email communications@westcoastfamily.org to register. \nRegister Here
URL:https://westcoastfamily.org/event/empowering-moms-group-in-farsi/2024-01-18/
LOCATION:Online\, Digital - See Post For Details\, Canada
ATTACH;FMTTYPE=image/jpeg:https://westcoastfamily.org/wp-content/uploads/2024/01/WinterHappeningsWorkshopImagesJan20243.jpg
ORGANIZER;CN="Communications":MAILTO:communications@westcoastfamily.org
END:VEVENT
BEGIN:VEVENT
DTSTART;TZID=America/Vancouver:20240117T120000
DTEND;TZID=America/Vancouver:20240117T140000
DTSTAMP:20260425T043650
CREATED:20240113T183626Z
LAST-MODIFIED:20240129T230437Z
UID:10000341-1705492800-1705500000@westcoastfamily.org
SUMMARY:Baby & Me
DESCRIPTION:Winter Happenings!\nBABY & ME\nCome together and play! Baby & Me\, for parents with children 0-2 years old\, is a wonderful chance to connect with other parents\, learn songs & nursery rhymes\, gain knowledge about your baby’s development\, and learn about your own health and well-being! Includes visits from a guest speaker. \nDetails: \n\nDROP-IN\, no registration required. Maximum 10 families – first come\, first serve.\nWednesdays\, January 10 to March 13\, 2023\, from 12:00 PM – 2:00 PM\nAt the WFC Tri-Cities Office at the back of the building (2062 Manning Ave\, Port Coquitlam\, BC V3B 1L6)\nSnacks/beverages included\n\nIf you have any questions about this group or other DROP-IN WINTER HAPPENINGS programs\, please email us at family.nav@westcoastfamily.org
URL:https://westcoastfamily.org/event/baby-me/2024-01-17/
LOCATION:WFC Tri-Cities Office\, 2062 Manning Ave\, Port Coquitlam\, BC\, V3B 1L6
ATTACH;FMTTYPE=image/jpeg:https://westcoastfamily.org/wp-content/uploads/2024/01/BabyMe6.jpg
ORGANIZER;CN="Family Nav":MAILTO:family.nav@westcoastfamily.org
END:VEVENT
BEGIN:VEVENT
DTSTART;TZID=America/Vancouver:20240117T100000
DTEND;TZID=America/Vancouver:20240117T113000
DTSTAMP:20260425T043650
CREATED:20240113T183348Z
LAST-MODIFIED:20240129T230736Z
UID:10000333-1705485600-1705491000@westcoastfamily.org
SUMMARY:Postpartum Support Group
DESCRIPTION:Join us on Wednesdays for a Postpartum Support Group. We will provide a safe environment where woman who are experiencing postpartum depression can meet and support each other. \nFacilitator is trained by Pacific Post Partum Society. \nDetails: \n\nPre-registration required\, please email shannon.radonjic@westcoastfamily.org\nWednesdays\, January 10 – February 28\, 2024\, from 10:00 AM – 11:30 AM\nAt WFC Tri-Cities Office (2062 Manning Ave\, Port Coquitlam)\n\nIf you have any questions about this group\, please email shannon.radonjic@westcoastfamily.org
URL:https://westcoastfamily.org/event/postpartum-support-group/2024-01-17/
LOCATION:WFC Tri-Cities Office\, 2062 Manning Ave\, Port Coquitlam\, BC\, V3B 1L6
ATTACH;FMTTYPE=image/jpeg:https://westcoastfamily.org/wp-content/uploads/2024/01/PostpartumSupportGroup.jpg
ORGANIZER;CN="Shannon Radonjic":MAILTO:shannon.radonjic@westcoastfamily.org
END:VEVENT
BEGIN:VEVENT
DTSTART;TZID=America/Vancouver:20240117T094500
DTEND;TZID=America/Vancouver:20240117T121500
DTSTAMP:20260425T043650
CREATED:20240113T190750Z
LAST-MODIFIED:20240129T232311Z
UID:10000397-1705484700-1705493700@westcoastfamily.org
SUMMARY:Mindful Parenting in Farsi (Ages 0-12)
DESCRIPTION:Join us for a FREE online parenting group in Farsi. Parents of children ages 0-12 will learn important parenting principles\, skills\, and strategies. Topics Include: \n\nDealing with oppositional and defiant children\nSetting limits and boundaries\nPower struggles\nAge-appropriate consequences\nHouse rules and more!\n\nSchedule: \n\nEvery Wednesday from January 17 – June 19\, 2024\n9:45 AM – 12:15 PM\nConnecting online via Zoom\n\n\n\n\n\n\n\nAfter the first session has passed (January 17\, 2023)\, please email communications@westcoastfamily.org to register.
URL:https://westcoastfamily.org/event/mindful-parenting-in-farsi-ages-0-12/2024-01-17/
LOCATION:Online\, Digital - See Post For Details\, Canada
ATTACH;FMTTYPE=image/jpeg:https://westcoastfamily.org/wp-content/uploads/2024/01/WinterHappeningsWorkshopImagesJan20241.jpg
END:VEVENT
BEGIN:VEVENT
DTSTART;TZID=America/Vancouver:20240117T093000
DTEND;TZID=America/Vancouver:20240117T113000
DTSTAMP:20260425T043650
CREATED:20240113T183107Z
LAST-MODIFIED:20240129T230711Z
UID:10000271-1705483800-1705491000@westcoastfamily.org
SUMMARY:Power of Play
DESCRIPTION:Winter Happenings!\nPower of Play \nEnjoy a private play space for your little ones while a WFC Family Navigator coaches and models child-led play\, establishing healthy boundaries\, turn taking and much more. Circle & story time included! \nDetails: \n\nDROP -IN\, no registration required. Maximum 10 families – first come\, first serve.\nWednesdays\, January 10 – March 13\, from 9:30 AM – 11:30 AM\nAt the WFC Tri-Cities Office in the back of the building (2062 Manning Ave\, Port Coquitlam\, BC V3B 1L6)\nSnacks/beverages included\n\nIf you have any questions about this group or other DROP-IN WINTER HAPPENINGS programs\, please email us at family.nav@westcoastfamily.org
URL:https://westcoastfamily.org/event/power-of-play/2024-01-17/
LOCATION:WFC Tri-Cities Office\, 2062 Manning Ave\, Port Coquitlam\, BC\, V3B 1L6
ATTACH;FMTTYPE=image/jpeg:https://westcoastfamily.org/wp-content/uploads/2024/01/PowerofPlay11.jpg
ORGANIZER;CN="Family Nav":MAILTO:family.nav@westcoastfamily.org
END:VEVENT
BEGIN:VEVENT
DTSTART;TZID=America/Vancouver:20240116T093000
DTEND;TZID=America/Vancouver:20240116T103000
DTSTAMP:20260425T043650
CREATED:20240113T190419Z
LAST-MODIFIED:20240129T231848Z
UID:10000389-1705397400-1705401000@westcoastfamily.org
SUMMARY:Stay & Play Gym Time!
DESCRIPTION:Winter Happenings\nStay & Play Gym Time!\nJoin us Tuesdays and come be a Birchland Buddy! Drop-in and join us with your little ones (aged 0-6) for a fun gym experience. In partnership with SD43. \nDetails: \n\nNo registration required\, drop-in program\nTuesdays\, January 16 – March 5\, 2023\, 9:30 AM – 11:30 AM\nAt Birchland Elementary School (1331 Fraser Ave\, Port Coquitlam)\nEntrance at gym doors\n\nIf you have any questions about this group or other DROP-IN WINTER HAPPENINGS programs\, please email us at family.nav@westcoastfamily.org
URL:https://westcoastfamily.org/event/stay-play-gym-time/2024-01-16/
LOCATION:Birchland Elementary School\, 1331 Fraser Ave\, Port Coquitlam\, BC\, V3B 1M4\, Canada
ATTACH;FMTTYPE=image/jpeg:https://westcoastfamily.org/wp-content/uploads/2024/01/StayPlayGymTime2.jpg
ORGANIZER;CN="Family Nav":MAILTO:family.nav@westcoastfamily.org
END:VEVENT
BEGIN:VEVENT
DTSTART;TZID=America/Vancouver:20240115T170000
DTEND;TZID=America/Vancouver:20240115T183000
DTSTAMP:20260425T043650
CREATED:20240113T185900Z
LAST-MODIFIED:20240129T231927Z
UID:10000380-1705338000-1705343400@westcoastfamily.org
SUMMARY:Evening Family Resource Program
DESCRIPTION:Winter Happenings!\nEVENING FAMILY RESOURCE PROGRAM\nJoin us in-person in Port Coquitlam every Monday evening! The Evening Family Resource Program includes play time\, stories\, songs\, free resources\, and a chance to meet others! Open to all parents and caregivers with children 0-6 years old. \nDetails: \n\nRegistration is required for each session. Limited capacity available.\nEvery Monday\, January 15 – March 11\, 2023 from 5:00 PM – 6:30 PM \nOpen to all parents/caregivers with children 0-6 years old\nIn-person group indoors at the WFC Tri-Cities office (2062 Manning Ave\, Port Coquitlam).\nLight dinner included \n\nIf you have any questions about this group or other WINTER HAPPENINGS programs\, please email us at family.nav@westcoastfamily.org
URL:https://westcoastfamily.org/event/evening-family-resource-program/2024-01-15/
LOCATION:WFC Tri-Cities Office\, 2062 Manning Ave\, Port Coquitlam\, BC\, V3B 1L6
ATTACH;FMTTYPE=image/jpeg:https://westcoastfamily.org/wp-content/uploads/2024/01/EveningFamilyResourceProgram19.jpg
ORGANIZER;CN="Family Nav":MAILTO:family.nav@westcoastfamily.org
END:VEVENT
BEGIN:VEVENT
DTSTART;TZID=America/Vancouver:20240115T103000
DTEND;TZID=America/Vancouver:20240115T113000
DTSTAMP:20260425T043650
CREATED:20240113T185258Z
LAST-MODIFIED:20240129T232007Z
UID:10000372-1705314600-1705318200@westcoastfamily.org
SUMMARY:Virtual Mother Goose in Farsi
DESCRIPTION:Join us every Monday for Virtual Mother Goose in Farsi! Join these virtual sessions with your little ones (0-6) for songs\, rhymes and dance! \nDetails: \n\nEvery Monday\, January 15 – March 11\, 2024\, from 10:30 AM – 11:30 AM\nNote: No session on February 19\nPre-registration required.\nFor parents with children 0-6 years old\nFree\, virtual online group via Zoom\n\nIf you have any questions\, please email us directly at shannan.singh@westcoastfamily.org
URL:https://westcoastfamily.org/event/virtual-mother-goose-in-farsi/2024-01-15/
LOCATION:Online\, Digital - See Post For Details\, Canada
ATTACH;FMTTYPE=image/png:https://westcoastfamily.org/wp-content/uploads/2024/01/MotherGooseinFarsi2.png
ORGANIZER;CN="Shannan Singh":MAILTO:shannan.singh@westcoastfamily.org
END:VEVENT
BEGIN:VEVENT
DTSTART;TZID=America/Vancouver:20240115T083000
DTEND;TZID=America/Vancouver:20240115T103000
DTSTAMP:20260425T043650
CREATED:20240113T182000Z
LAST-MODIFIED:20240129T232051Z
UID:10000010-1705307400-1705314600@westcoastfamily.org
SUMMARY:Mother Goose at Pitt Meadows Library
DESCRIPTION:Join us for nursery rhymes\, singing\, and dancing with your little ones (ages 0-6)! \n\nEvery Monday\, January 8 – March 4\, 2023 from 9:30 AM – 10:30 AM\nDrop-in\, no registration required! First come\, first serve.\nNo session February 19th\nFor parents with children 0-6 years old\n\nFree\, in-person group at the Pitt Meadows Library (12099 Harris Rd\, Pitt Meadows\, BC V3Y 0E5) \nIf you have any questions about this group\, please email us directly at shannan.singh@westcoastfamily.org
URL:https://westcoastfamily.org/event/mother-goose-at-pitt-meadows-library/2024-01-15/
LOCATION:Pitt Meadows Library\, 12099 Harris Rd\, Pitt Meadows\, British Columbia\, V3Y 0E5\, Canada
ATTACH;FMTTYPE=image/png:https://westcoastfamily.org/wp-content/uploads/2024/01/MotherGooseatPittMeadowsLibrary10.png
ORGANIZER;CN="Shannan Singh":MAILTO:shannan.singh@westcoastfamily.org
END:VEVENT
BEGIN:VEVENT
DTSTART;TZID=America/Vancouver:20240112T143000
DTEND;TZID=America/Vancouver:20240112T153000
DTSTAMP:20260425T043650
CREATED:20240113T184840Z
LAST-MODIFIED:20240129T232114Z
UID:10000364-1705069800-1705073400@westcoastfamily.org
SUMMARY:Virtual Mother Goose in Mandarin & Cantonese
DESCRIPTION:Join us every Friday for Virtual Mother Goose in Mandarin & Cantonese! Join these virtual sessions with your little ones (0-6) for songs\, rhymes and dance! \nDetails: \n\nEvery Friday\, January 12 – March 1\, 2024\, from 2:30 PM – 3:30 PM\nPre-registration required.\nFor parents with children 0-6 years old\nFree\, virtual online group via Zoom\n\nIf you have any questions\, please email us directly at shannan.singh@westcoastfamily.org
URL:https://westcoastfamily.org/event/virtual-mother-goose-in-mandarin-cantonese/2024-01-12/
LOCATION:Online\, Digital - See Post For Details\, Canada
ATTACH;FMTTYPE=image/jpeg:https://westcoastfamily.org/wp-content/uploads/2024/01/MotherGooseinCantoneseMandarin2.jpg
ORGANIZER;CN="Shannan Singh":MAILTO:shannan.singh@westcoastfamily.org
END:VEVENT
BEGIN:VEVENT
DTSTART;TZID=America/Vancouver:20240111T183000
DTEND;TZID=America/Vancouver:20240111T203000
DTSTAMP:20260425T043650
CREATED:20240113T183959Z
LAST-MODIFIED:20240113T184329Z
UID:10000350-1704997800-1705005000@westcoastfamily.org
SUMMARY:Parent Quest Program
DESCRIPTION:Parent Quest Program is a drop-in support group that aims to provide support and education for parents who have a mental illness and/or substance use challenges. \nSchedule: \nDrop-in online on any of the following Thursdays from 6:30 – 8:30pm: \n\nJan 11\nJan 25\nFeb 8\nFeb 22\nMar 7\nMar 21\n\nNo registration required! \nJoin via Zoom \nhttps://us02web.zoom.us/j/87685532525?pwd=SEdXcUYwdk5HdE5BYWZ4Mk5lOWJSQT09 \nMeeting ID: 876 8553 2525 \nPasscode: 746020 \nIf you have any questions\, please email us at communications@westcoastfamily.org
URL:https://westcoastfamily.org/event/parent-quest-program/2024-01-11/
LOCATION:Online\, Digital - See Post For Details\, Canada
ATTACH;FMTTYPE=image/jpeg:https://westcoastfamily.org/wp-content/uploads/2024/01/FallHappenings2023WorkshopImages3.jpg
ORGANIZER;CN="Communications":MAILTO:communications@westcoastfamily.org
END:VEVENT
BEGIN:VEVENT
DTSTART;TZID=America/Vancouver:20240110T120000
DTEND;TZID=America/Vancouver:20240110T140000
DTSTAMP:20260425T043650
CREATED:20240113T183626Z
LAST-MODIFIED:20240129T230437Z
UID:10000340-1704888000-1704895200@westcoastfamily.org
SUMMARY:Baby & Me
DESCRIPTION:Winter Happenings!\nBABY & ME\nCome together and play! Baby & Me\, for parents with children 0-2 years old\, is a wonderful chance to connect with other parents\, learn songs & nursery rhymes\, gain knowledge about your baby’s development\, and learn about your own health and well-being! Includes visits from a guest speaker. \nDetails: \n\nDROP-IN\, no registration required. Maximum 10 families – first come\, first serve.\nWednesdays\, January 10 to March 13\, 2023\, from 12:00 PM – 2:00 PM\nAt the WFC Tri-Cities Office at the back of the building (2062 Manning Ave\, Port Coquitlam\, BC V3B 1L6)\nSnacks/beverages included\n\nIf you have any questions about this group or other DROP-IN WINTER HAPPENINGS programs\, please email us at family.nav@westcoastfamily.org
URL:https://westcoastfamily.org/event/baby-me/2024-01-10/
LOCATION:WFC Tri-Cities Office\, 2062 Manning Ave\, Port Coquitlam\, BC\, V3B 1L6
ATTACH;FMTTYPE=image/jpeg:https://westcoastfamily.org/wp-content/uploads/2024/01/BabyMe6.jpg
ORGANIZER;CN="Family Nav":MAILTO:family.nav@westcoastfamily.org
END:VEVENT
BEGIN:VEVENT
DTSTART;TZID=America/Vancouver:20240110T100000
DTEND;TZID=America/Vancouver:20240110T113000
DTSTAMP:20260425T043650
CREATED:20240113T183348Z
LAST-MODIFIED:20240129T230736Z
UID:10000332-1704880800-1704886200@westcoastfamily.org
SUMMARY:Postpartum Support Group
DESCRIPTION:Join us on Wednesdays for a Postpartum Support Group. We will provide a safe environment where woman who are experiencing postpartum depression can meet and support each other. \nFacilitator is trained by Pacific Post Partum Society. \nDetails: \n\nPre-registration required\, please email shannon.radonjic@westcoastfamily.org\nWednesdays\, January 10 – February 28\, 2024\, from 10:00 AM – 11:30 AM\nAt WFC Tri-Cities Office (2062 Manning Ave\, Port Coquitlam)\n\nIf you have any questions about this group\, please email shannon.radonjic@westcoastfamily.org
URL:https://westcoastfamily.org/event/postpartum-support-group/2024-01-10/
LOCATION:WFC Tri-Cities Office\, 2062 Manning Ave\, Port Coquitlam\, BC\, V3B 1L6
ATTACH;FMTTYPE=image/jpeg:https://westcoastfamily.org/wp-content/uploads/2024/01/PostpartumSupportGroup.jpg
ORGANIZER;CN="Shannon Radonjic":MAILTO:shannon.radonjic@westcoastfamily.org
END:VEVENT
BEGIN:VEVENT
DTSTART;TZID=America/Vancouver:20240110T093000
DTEND;TZID=America/Vancouver:20240110T113000
DTSTAMP:20260425T043650
CREATED:20240113T183107Z
LAST-MODIFIED:20240129T230711Z
UID:10000270-1704879000-1704886200@westcoastfamily.org
SUMMARY:Power of Play
DESCRIPTION:Winter Happenings!\nPower of Play \nEnjoy a private play space for your little ones while a WFC Family Navigator coaches and models child-led play\, establishing healthy boundaries\, turn taking and much more. Circle & story time included! \nDetails: \n\nDROP -IN\, no registration required. Maximum 10 families – first come\, first serve.\nWednesdays\, January 10 – March 13\, from 9:30 AM – 11:30 AM\nAt the WFC Tri-Cities Office in the back of the building (2062 Manning Ave\, Port Coquitlam\, BC V3B 1L6)\nSnacks/beverages included\n\nIf you have any questions about this group or other DROP-IN WINTER HAPPENINGS programs\, please email us at family.nav@westcoastfamily.org
URL:https://westcoastfamily.org/event/power-of-play/2024-01-10/
LOCATION:WFC Tri-Cities Office\, 2062 Manning Ave\, Port Coquitlam\, BC\, V3B 1L6
ATTACH;FMTTYPE=image/jpeg:https://westcoastfamily.org/wp-content/uploads/2024/01/PowerofPlay11.jpg
ORGANIZER;CN="Family Nav":MAILTO:family.nav@westcoastfamily.org
END:VEVENT
END:VCALENDAR